BEGIN:VCALENDAR
VERSION:2.0
PRODID:-//eventon.com NONSGML v1.0//EN
CALSCALE:GREGORIAN
METHOD:PUBLISH
BEGIN:VEVENT
UID:69eb9aeef3ea2
DTSTAMP:20260424T163142Z
DTSTART:20201027T190000Z
DTEND:20201027T200000Z
LOCATION:Huhtari Pelitie 36\,  53200 Lappeenranta\,  Finland
SUMMARY:Mixtuura - SB Morkula
DESCRIPTION:Mixtuura - SB Morkula\nhttps://www.mixtuura.fi/eventon-tapahtum
 at/mixtuura-sb-morkula-2020-10-27/
URL:https://www.mixtuura.fi/eventon-tapahtumat/mixtuura-sb-morkula-2020-10-27/
END:VEVENT
END:VCALENDAR