BEGIN:VCALENDAR
VERSION:2.0
PRODID:-//eventon.com NONSGML v1.0//EN
CALSCALE:GREGORIAN
METHOD:PUBLISH
BEGIN:VEVENT
UID:69e74abda936d
DTSTAMP:20260421T100029Z
DTSTART:20190302T170000Z
DTEND:20190302T235000Z
LOCATION:
SUMMARY:Loviisan Tor - NST
DESCRIPTION:Loviisan Tor - NST\nhttps://www.mixtuura.fi/eventon-tapahtumat/
 loviisan-tor-nst/
URL:https://www.mixtuura.fi/eventon-tapahtumat/loviisan-tor-nst/
END:VEVENT
END:VCALENDAR